BEGIN:VCALENDAR
VERSION:2.0
CALSCALE:GREGORIAN
PRODID:adamgibbons/ics
METHOD:PUBLISH
X-PUBLISHED-TTL:PT1H
BEGIN:VEVENT
UID:618@lapunta.org
SUMMARY:SALVIAMO IL PARCO GINORI E IL SUO MUSEO....BASTA COOP E CENTRI COMM
	ERCIALI
DTSTAMP:20260424T092807Z
DTSTART:20220528T080000Z
DTEND:20220528T100000Z
DESCRIPTION:MANIFESTAZIONE\nSABATO 28 MAGGIO ORE 10\nPiazza del Comune - Se
	sto Fiorentino\n\nSe per te la vita va oltre lo shopping e preferisci nutr
	irti di valori come\nArte\, Cultura e Ambiente\,\n\nSe sei stufo di chi si
	 proclama ecologista e poi cementifica un'altra area\nverde\,\n\nSe credi 
	inopportuna la costruzione del 19° supermercato nel raggio di 4 km a\nfian
	co del Museo Ginori\,\n\nSe non vuoi essere complice silente della distruz
	ione di un Parco naturale\nsopravvissuto fra palazzoni e catrame\,\n\npart
	ecipa anche tu e invita altri a partecipare alla manifestazione di SABATO 
	28\nMAGGIO ore 10 in Piazza del Comune a Sesto Fiorentino.
URL:https://lapunta.org/event/salviamo-il-parco-ginori-e-il-suo-museobasta-
	coop-e-centri-commercialipiazza-del-comuna
LOCATION:PIAZZA DEL COMUNE SESTO - piazza del comune Sesto fiorentino
STATUS:CONFIRMED
CATEGORIES:
X-ALT-DESC;FMTTYPE=text/html:<p>MANIFESTAZIONE<br>SABATO 28 MAGGIO ORE 10<b
	r>Piazza del Comune - Sesto Fiorentino</p><p>Se per te la vita va oltre lo
	 shopping e preferisci nutrirti di valori come Arte, Cultura e Ambiente,</
	p><p>Se sei stufo di chi si proclama ecologista e poi cementifica un'altra
	 area verde,</p><p>Se credi inopportuna la costruzione del 19° supermercat
	o nel raggio di 4 km a fianco del Museo Ginori,</p><p>Se non vuoi essere c
	omplice silente della distruzione di un Parco naturale sopravvissuto fra p
	alazzoni e catrame,</p><p>partecipa anche tu e invita altri a partecipare 
	alla manifestazione di SABATO 28 MAGGIO ore 10 in Piazza del Comune a Sest
	o Fiorentino.</p>
END:VEVENT
END:VCALENDAR
